BEGIN:VCALENDAR
VERSION:2.0
PRODID:-//eventon.com NONSGML v1.0//EN
CALSCALE:GREGORIAN
METHOD:PUBLISH
BEGIN:VEVENT
UID:69e889db20580
DTSTAMP:20260422T084203Z
DTSTART:20150821T213000Z
DTEND:20150821T010000Z
LOCATION:Auditorio Paque Almansa - San Javier
SUMMARY:San Javier - Murcia
DESCRIPTION:Fecha: 21 de Agosto Recinto: Parque Almansa Auditorio Hora Conc
 ierto: 21:30h Venta de entradas: por determinar   &nbsp;\nhttps://www.vict
 ormanuel.es/events/san-javier-murcia/
URL:https://www.victormanuel.es/events/san-javier-murcia/
END:VEVENT
END:VCALENDAR