BEGIN:VCALENDAR
VERSION:2.0
PRODID:-//eventon.com NONSGML v1.0//EN
CALSCALE:GREGORIAN
METHOD:PUBLISH
BEGIN:VEVENT
UID:69e7351921e80
DTSTAMP:20260421T082809Z
DTSTART:20200208T203000Z
DTEND:20200208T235900Z
LOCATION:
SUMMARY:Oviedo (AGOTADO)
DESCRIPTION:Concierto: 20:30h Entradas ya a la venta. Venta de entradas: ww
 w.entradasoviedo.es Taquilla del Teatro Campoamor: de 12:00 a 13:30 y 16:00
  A 20:00\nhttps://www.victormanuel.es/events/oviedo-nueva-fecha/
URL:https://www.victormanuel.es/events/oviedo-nueva-fecha/
END:VEVENT
END:VCALENDAR