BEGIN:VCALENDAR
VERSION:2.0
PRODID:-//eventon.com NONSGML v1.0//EN
CALSCALE:GREGORIAN
METHOD:PUBLISH
BEGIN:VEVENT
UID:69e8fae76a1f2
DTSTAMP:20260422T164423Z
DTSTART:20231127T060000Z
DTEND:20231127T105000Z
LOCATION:
SUMMARY:VICTOR MANUEL - PALENCIA
DESCRIPTION:Víctor Manuel\,  esta vez se subirá al escenario de PALENCIA 
 &#8211; Teatro Ortega  26 Noviembre 2023. Un concierto único con un exten
 so repertorio de largos años de canciones y carretera. LA VIDA EN CANCIONE
 S (El escenario lo cura todo) pretende abarcar\,  resumir\,  largos años d
 e canciones y carretera. De “Soy[..]\nhttps://www.victormanuel.es/events/
 victor-manuel-palencia/
URL:https://www.victormanuel.es/events/victor-manuel-palencia/
END:VEVENT
END:VCALENDAR